BEGIN:VCALENDAR
VERSION:2.0
PRODID:-//Acanthus - ECPv6.15.14//NONSGML v1.0//EN
CALSCALE:GREGORIAN
METHOD:PUBLISH
X-WR-CALNAME:Acanthus
X-ORIGINAL-URL:https://acanthus-band.com
X-WR-CALDESC:Veranstaltungen für Acanthus
REFRESH-INTERVAL;VALUE=DURATION:PT1H
X-Robots-Tag:noindex
X-PUBLISHED-TTL:PT1H
BEGIN:VTIMEZONE
TZID:UTC
BEGIN:STANDARD
TZOFFSETFROM:+0000
TZOFFSETTO:+0000
TZNAME:UTC
DTSTART:20220101T000000
END:STANDARD
END:VTIMEZONE
BEGIN:VEVENT
DTSTART;TZID=UTC:20260321T000000
DTEND;TZID=UTC:20260321T235959
DTSTAMP:20260420T173239
CREATED:20260119T093204Z
LAST-MODIFIED:20260221T104435Z
UID:886-1774051200-1774137599@acanthus-band.com
SUMMARY:Rock the Chameleon - Ehingen
DESCRIPTION:
URL:https://acanthus-band.com/event/ego-ehingen/
ATTACH;FMTTYPE=image/png:https://acanthus-band.com/wp-content/uploads/2026/01/RockTheChameleonPosterUpscaled_Edit3-scaled.png
END:VEVENT
BEGIN:VEVENT
DTSTART;TZID=UTC:20260214T193000
DTEND;TZID=UTC:20260214T233000
DTSTAMP:20260420T173239
CREATED:20260107T093022Z
LAST-MODIFIED:20260107T093024Z
UID:877-1771097400-1771111800@acanthus-band.com
SUMMARY:Metal for my Valentine
DESCRIPTION:https://loveyourartist.com/de/profiles/club-zentral-HJRKP0/events/regions-finest-xiphos-my-stuttgart-PUGDS2
URL:https://acanthus-band.com/event/metal-for-my-valentine/
END:VEVENT
BEGIN:VEVENT
DTSTART;TZID=UTC:20260207T203000
DTEND;TZID=UTC:20260207T233000
DTSTAMP:20260420T173239
CREATED:20260107T092708Z
LAST-MODIFIED:20260107T092711Z
UID:874-1770496200-1770507000@acanthus-band.com
SUMMARY:Metal Night im Epplehaus
DESCRIPTION:Metalnight Februar
URL:https://acanthus-band.com/event/metal-night-im-epplehaus/
END:VEVENT
BEGIN:VEVENT
DTSTART;TZID=UTC:20251220T000000
DTEND;TZID=UTC:20251220T235959
DTSTAMP:20260420T173239
CREATED:20250711T154839Z
LAST-MODIFIED:20250711T154841Z
UID:846-1766188800-1766275199@acanthus-band.com
SUMMARY:s'Bokle
DESCRIPTION:Time: TBD
URL:https://acanthus-band.com/event/sbokle/
LOCATION:s’Bokle\, Robert-Gerwig-Str. 12\, Radolfzell\, 78315\, Germany
END:VEVENT
BEGIN:VEVENT
DTSTART;TZID=UTC:20250927T000000
DTEND;TZID=UTC:20250927T235959
DTSTAMP:20260420T173239
CREATED:20250711T154211Z
LAST-MODIFIED:20250802T034139Z
UID:841-1758931200-1759017599@acanthus-band.com
SUMMARY:Crusade of Metal Festival 2025
DESCRIPTION:Stage Time: TBD
URL:https://acanthus-band.com/event/crusade-of-metal-festival-2025/
LOCATION:Crusade of Metal\, Ingolstädter Str. 76\, Pfaffenhofen an der Ilm\, 85276
ATTACH;FMTTYPE=image/jpeg:https://acanthus-band.com/wp-content/uploads/2025/07/Crewsade-of-Metal-2025-Plakat.jpg
END:VEVENT
BEGIN:VEVENT
DTSTART;TZID=UTC:20250719T190000
DTEND;TZID=UTC:20250719T233000
DTSTAMP:20260420T173239
CREATED:20250711T153230Z
LAST-MODIFIED:20250711T153627Z
UID:834-1752951600-1752967800@acanthus-band.com
SUMMARY:Pay for Impression Release Gig
DESCRIPTION:
URL:https://acanthus-band.com/event/pay-for-impression-release-gig/
LOCATION:Zug Pub Güglingen\, Emil-Weber-Straße 16\, Güglingen\, 74363\, Germany
ATTACH;FMTTYPE=image/png:https://acanthus-band.com/wp-content/uploads/2025/07/Zug_Pub.png
END:VEVENT
BEGIN:VEVENT
DTSTART;TZID=UTC:20230224T203000
DTEND;TZID=UTC:20230224T220000
DTSTAMP:20260420T173239
CREATED:20230106T201634Z
LAST-MODIFIED:20230106T201634Z
UID:424-1677270600-1677276000@acanthus-band.com
SUMMARY:Rookie Open Pt. 8
DESCRIPTION:feat. Acanthus\, Astraya\, Distrezzed\nNach ein paar Jahren Zwangspause starten wir wieder durch mit unserer Nachwuchsreihe ROOKIE OPEN. \nLokale Bands aus den verschiedensten Genres haben die Gelegenheit\, unsere Bühne zu rocken \nASTRAYA \nASTRAYA ist eine Post-Alternative Rockband aus Stuttgart. Ihre Musik ist eine Mischung aus Post und Progressive Rock mit klassischem Gesang. \nACANTHUS \nSymphonic Metal. Härtere\, orchestrierte Musik mit dem Potential\, atmosphärische Bilder in den Kopf des Hörers zu projizieren. aus Tübingen \nDISTREZZED \nHandmade Doom and Stoner Rock
URL:https://acanthus-band.com/event/rookie-open-pt-8/
LOCATION:die Halle\, Kanalstraße 10\, Reichenbach a. d. Fils\, Baden-Württemberg\, 73262\, Deutschland
END:VEVENT
END:VCALENDAR